BEGIN:VCALENDAR
VERSION:2.0
PRODID:-//Tokyo Love District - ECPv6.15.18//NONSGML v1.0//EN
CALSCALE:GREGORIAN
METHOD:PUBLISH
X-WR-CALNAME:Tokyo Love District
X-ORIGINAL-URL:https://tokyolovedistrict.com
X-WR-CALDESC:Events for Tokyo Love District
REFRESH-INTERVAL;VALUE=DURATION:PT1H
X-Robots-Tag:noindex
X-PUBLISHED-TTL:PT1H
BEGIN:VTIMEZONE
TZID:UTC
BEGIN:STANDARD
TZOFFSETFROM:+0000
TZOFFSETTO:+0000
TZNAME:UTC
DTSTART:20230101T000000
END:STANDARD
END:VTIMEZONE
BEGIN:VEVENT
DTSTART;TZID=UTC:20240323T210000
DTEND;TZID=UTC:20240324T020000
DTSTAMP:20260421T133311
CREATED:20240112T151536Z
LAST-MODIFIED:20240113T020239Z
UID:10000271-1711227600-1711245600@tokyolovedistrict.com
SUMMARY:Shisha x Shibari Show (La vie en Rose)
DESCRIPTION:Shisha (Hookah) Bar “La vie en Rose” hosts a “Shisha x Shibari Show” every Saturday from 21:00. Each night features a different instructor. \nCurrently\, the rigger/instructor for 1/20/2024 is scheduled to be Kusunoki Yu. The following week after that (1/27) will be Shibusawa Kohei. Notably\, both of these artists studied under Hajime Kinoko. \nCost: 800 yen charge\, plus a mandatory order of one drink \nYou may order shisha separately. \nIf you would like to attend with a bilingual guide\, please kindly consider making use of our tour guide service. These events fill up quickly as seats are limited\, so please consider using our service to RSVP and secure your seat at the event as well.
URL:https://tokyolovedistrict.com/event/shisha-x-shibari-show/2024-03-23/
LOCATION:目白ハイベルズB1\, 〒161-0033 東京都新宿区下落合4-21-16\, Japan
CATEGORIES:Fetish,Shibari
ATTACH;FMTTYPE=image/jpeg:https://tokyolovedistrict.com/wp-content/uploads/2024/01/GDBJeRGaYAMveyB.jpeg
END:VEVENT
BEGIN:VEVENT
DTSTART;TZID=UTC:20240323T230000
DTEND;TZID=UTC:20240324T050000
DTSTAMP:20260421T133311
CREATED:20240113T030023Z
LAST-MODIFIED:20240113T030023Z
UID:10000525-1711234800-1711256400@tokyolovedistrict.com
SUMMARY:(Women Only) No Bra Night TIPSY Party [Osaka]
DESCRIPTION:NO BRA NIGHT!\n3/23 23:00-5:00 \nPick out your cutest pasties and get on the dance floor! It’s time to party!! \nTIPSY is hosting a “No Bra” party for women only! \n**Please bring pasties and properly cover your nipples to ensure TIPSY can host these kinds of fun and sexy parties in the future as well.** \nHOW TO PURCHASE TICKETS\n\n\n\nTickets are purchased through PassMarket. Please note that the site is entirely in Japanese\, but fairly intuitive. For those needing extra assistance\, TLD offers a paid service to purchase tickets on your behalf. Please contact us. \nGeneral admission is 5000 yen\, or 4000 if you can snag an early-bird ticket. \n\n\nEVENT ACCESS\n\n\n\nclub JOULE \n2-4F Minami Sumiyacho Building\, 2-11-7 Nishi-Shinsaibashi\, Chuo-ku\, Osaka 542-0086 \nGoogle Maps \n3 minutes walk from Exit 7 of Shinsaibashi Station on the Subway Midosuji Line \n3 minutes walk from Exit 5 of Yotsubashi Station on the Yotsubashi Subway Line \n\nRead our previous TIPSY guide to get an idea of what TIPSY parties are all about!
URL:https://tokyolovedistrict.com/event/no-bra-osaka/
LOCATION:club JOULE\, 2-4F Minami Sumiyacho Building\, 2-11-7 Nishi-Shinsaibashi\, Chuo-ku\, Osaka 542-0086
CATEGORIES:Queer,Women Only
ATTACH;FMTTYPE=image/jpeg:https://tokyolovedistrict.com/wp-content/uploads/2024/01/m_1_Y6M5GfpzSdHmsrCvPVXIg.jpg
END:VEVENT
END:VCALENDAR