BEGIN:VCALENDAR
VERSION:2.0
PRODID:-//Tokyo Love District - ECPv6.15.18//NONSGML v1.0//EN
CALSCALE:GREGORIAN
METHOD:PUBLISH
X-ORIGINAL-URL:https://tokyolovedistrict.com
X-WR-CALDESC:Events for Tokyo Love District
REFRESH-INTERVAL;VALUE=DURATION:PT1H
X-Robots-Tag:noindex
X-PUBLISHED-TTL:PT1H
BEGIN:VTIMEZONE
TZID:UTC
BEGIN:STANDARD
TZOFFSETFROM:+0000
TZOFFSETTO:+0000
TZNAME:UTC
DTSTART:20240101T000000
END:STANDARD
END:VTIMEZONE
BEGIN:VEVENT
DTSTART;TZID=UTC:20250420T130000
DTEND;TZID=UTC:20250429T190000
DTSTAMP:20260426T020033
CREATED:20250421T015746Z
LAST-MODIFIED:20250421T021222Z
UID:10000575-1745154000-1745953200@tokyolovedistrict.com
SUMMARY:Art Exhibition "Yuri no Yakata" – Reflections on Lesbianism
DESCRIPTION:Gallery Zaroff will host “Yuri no Yakata – Reflections on Lesbianism\,” a special exhibition featuring five artists: Aki Narita\, Narumi Hosokawa\, Miruku Morizono\, and Yuu. \nDelve into a bewitching world of Yuri (lesbian-themed art)\, where each artist explores eroticism and intimacy through their unique lens. The result is a stunning\, unapologetically bold collection of works that push expressive boundaries. \n🗓 Exhibition Dates: April 20 (Sun) – April 29 (Tue)※ Closes at 5:00 PM on the final day.Closed on Wednesday \nYou can purchase artwork at the exhibition. \nYou can view the collection here. \nFeatured Artists:\n–Aki Narita\n–Narumi Hosokawa\n–Miruku Morizono\n–Yu\n\n🎥 A video of the exhibition space is available below:🔗 Watch here! \n※ Please note: Due to YouTube’s age restrictions\, the video is only viewable by users aged 18 and up. It may not be accessible if child safety features are enabled.
URL:https://tokyolovedistrict.com/event/yuri-no-yakata/
LOCATION:Gallery Zaroff\, 1-11-9 Hatsudai\, Shibuya\, Tokyo\, 151-0061\, Japan
CATEGORIES:Art Exhibit,Queer
ATTACH;FMTTYPE=image/jpeg:https://tokyolovedistrict.com/wp-content/uploads/2025/04/YuriExhibit.jpg
END:VEVENT
BEGIN:VEVENT
DTSTART;TZID=UTC:20250430T190000
DTEND;TZID=UTC:20250501T040000
DTSTAMP:20260426T020033
CREATED:20250423T033248Z
LAST-MODIFIED:20250423T033404Z
UID:10000587-1746039600-1746072000@tokyolovedistrict.com
SUMMARY:BDSM Party "THE PAIN" - DecaBar S
DESCRIPTION:💋 THE PAIN – Welcome to a Night Ruled by Desire 💋Launch: Wednesday\, April 30A brand-new fetish club experience opens in Shinjuku—Not an SM bar. Not an SM club.This is an extraordinary escape where your hidden instincts awaken. \nYou shouldn’t touch it… but you want to.At THE PAIN\, give in to your forbidden cravings.A sinful nightclub where fetish and lust entwine. \n🖤 Every Wednesday of May at Decabar S📍 Location: Kabukicho 1-9-8 ASAHI Bldg B1\, Shinjuku \n💄 Guest Goddess-4/30 Mistress Tsukika \n-5/7 Switcher NANA \n-5/14 Goddess RAN \n-5/21 Rina Yuduki (female rope artist) \n❤️ Resident Performers・MiMi・HINARINA \nCome experience a decadent\, sensual night where boundaries dissolve and fantasy takes control.💋 Every Wednesday\, awaken your desire. 🔞 \nNeed help getting in or want a guide or interpreter for the event? \nIf you would like to attend with a bilingual guide\, please kindly consider making use of our tour guide service.
URL:https://tokyolovedistrict.com/event/thepain/2025-04-30/
LOCATION:DECABAR\, Asahi Bldg. Floor B1\, Kabukicho 1-9-8\, Shinjuku-ku\, Tokyo\, 160-0021\, Japan
CATEGORIES:Bar Event,Crossdressing,DJ Show,Fetish,Queer,Shibari
ATTACH;FMTTYPE=image/jpeg:https://tokyolovedistrict.com/wp-content/uploads/2025/04/Go9J0HCbMAAa1Q9.jpeg
END:VEVENT
END:VCALENDAR