BEGIN:VCALENDAR
VERSION:2.0
PRODID:-//Tokyo Love District - ECPv6.15.18//NONSGML v1.0//EN
CALSCALE:GREGORIAN
METHOD:PUBLISH
X-WR-CALNAME:Tokyo Love District
X-ORIGINAL-URL:https://tokyolovedistrict.com
X-WR-CALDESC:Events for Tokyo Love District
REFRESH-INTERVAL;VALUE=DURATION:PT1H
X-Robots-Tag:noindex
X-PUBLISHED-TTL:PT1H
BEGIN:VTIMEZONE
TZID:Asia/Tokyo
BEGIN:STANDARD
TZOFFSETFROM:+0900
TZOFFSETTO:+0900
TZNAME:JST
DTSTART:20230101T000000
END:STANDARD
END:VTIMEZONE
BEGIN:VEVENT
DTSTART;TZID=Asia/Tokyo:20240414T150000
DTEND;TZID=Asia/Tokyo:20240414T210000
DTSTAMP:20260422T214636
CREATED:20240311T234205Z
LAST-MODIFIED:20240311T234205Z
UID:10000539-1713106800-1713128400@tokyolovedistrict.com
SUMMARY:YukiMiya Salon (Shibari Event at Titty Twister)
DESCRIPTION:Hosted at Titty Twister\, an esteemed Kabukicho SM bar\, YukiMiya Salon is your opportunity to learn shibari/kinbaku techniques from experienced instructors in an intimate\, relaxed setting. It’s bound to be a blast! \nDate: Sunday\, April 14th\, 2024 \nEvent Schedule:\nMae-te Shibari Lesson (limited to couples): 3:00pm – 5:00pm\nNawa-kai: 5:00pm – 9:00pm \nLocation: Titty Twister\nAddress: 〒160-0021 Pia Shinjuku 4th Floor\, Kabukicho 2-10-6\, Shinjuku-ku\, Tokyo\, Japan (〒160-0021 東京都新宿区歌舞伎町2丁目10-6\nピア新宿4階) \nParticipation Fee (CASH ONLY):\nMen (including female-presenting crossdressers): ¥6000\nWomen: ¥3000 \nThis will be an all-you-can-drink\, free play event for all paying participants. You are free to attend only one or both portions of the event. \nThe lesson portion of the event will focus on mae-te shibari – a shibari style focused on ties that place the rope bottom’s hands in front of their body. \nThe Nawa-kai portion of the event will feature demonstrations from lead instructor Yukiscream and rope bottom Miya\, as well as Titty Twister staff and other attendees. \nPlease note that Titty Twister is not open for regular business on Sundays\, and thus will not be operating outside of the above scheduled times on the 14th. Titty Twister can be contacted via phone at 03-6278-9090 (Japanese only). \nStarting from 5:00pm\, okonomiyaki and takoyaki prepared by Yukiscream will be served to all attendees! \nYukiscream is an experienced shibari rigger who performs at SM-related events and venues across Tokyo. He has studied shibari under Otonawa\, the manager of Titty Twister and a veteran rigger.\n\nMiya is a rope bottom who performs in Tokyo SM shows. Her dream is play a zombie in a zombie film.
URL:https://tokyolovedistrict.com/event/yukimiya-salon-shibari-event/
LOCATION:Titty Twister\, Pia Shinjuku\, Kabukicho 2-10-6\, Shinjuku-ku\, Tokyo\, 160-0021\, Japan
CATEGORIES:Bar Event,Shibari
ATTACH;FMTTYPE=image/jpeg:https://tokyolovedistrict.com/wp-content/uploads/2024/03/schedule_1_20240306051202.jpg
END:VEVENT
BEGIN:VEVENT
DTSTART;TZID=Asia/Tokyo:20240421T133000
DTEND;TZID=Asia/Tokyo:20240421T193000
DTSTAMP:20260422T214636
CREATED:20240324T161450Z
LAST-MODIFIED:20240324T161450Z
UID:10000540-1713706200-1713727800@tokyolovedistrict.com
SUMMARY:Arcadia: The 21st Anniversary - ULTIMANIA14 (Osaka)
DESCRIPTION:Marking the 21st anniversary of Osaka’s top BDSM bar\, this event in an exclusive venue promises to be a high-energy extravaganza filled with exciting guest appearances! \nLocation: Misono Universe\nAddress: 〒542-0074 Misono Universe Bldg. B1\, Sennichimae 2-3-9\, Chuo-ku\, Osaka City\, Osaka\n(〒542-0074 大阪府大阪市中央区千日前２丁目３−９ 味園ユニバースビル B1) \nDoors Open: 1:30pm\nEvent Start Time: 2:30pm\nEvent End Time: 7:30pm \nTicket Prices\nMale Pre-order Ticket (w/ RSVP): ¥12\,000\nFemale Pre-order Ticket (w/ RSVP): ¥6\,000\nMale Door Ticket: ¥14\,000\nFemale Door Ticket: ¥7\,000 \nBar Arcadia\, a staple in the Osaka BDSM scene\, is celebrating its 21st anniversary with this star-studded event! ULTIMANIA14 will be held in the same venue as last year’s anniversary event: Misono Universe in Namba. \nULTIMANIA14 won’t be your average event… Think of it as an exclusive convention centered around experiencing BDSM! Attendees will be able to visit a wide range of BDSM-themed booths and watch kinky performances by BDSM professionals from all over Japan. \nMisono Universe is a spacious venue with a retro flair\, leaving attendees with plenty of opportunities to explore and relax in a fetish-friendly environment. Don’t miss out on this once-in-a-lifetime bash! \nWatch the event’s promotional video here! \nMisono Universe can be contacted via phone at 06-6641-8733 (Japanese only) from 12:00pm until 5:00pm. \nAttendees can RSVP for the event through its webpage on Arcadia’s website (Japanese only). Please refer to the following translated image to navigate the webpage. \n \n  \n 
URL:https://tokyolovedistrict.com/event/arcadia-the-21st-anniversary-ultimania14-osaka/
LOCATION:Misono Universe\, Misono Universe Bldg. B1\, Sennichimae 2-3-9\, Chuo-ku\, Osaka City\, Osaka\, 542-0074\, Japan
CATEGORIES:Bar Event,Fetish,Shibari
ATTACH;FMTTYPE=image/jpeg:https://tokyolovedistrict.com/wp-content/uploads/2024/03/ultimania.jpg
END:VEVENT
END:VCALENDAR