BEGIN:VCALENDAR
VERSION:2.0
PRODID:-//Tokyo Love District - ECPv6.15.18//NONSGML v1.0//EN
CALSCALE:GREGORIAN
METHOD:PUBLISH
X-ORIGINAL-URL:https://tokyolovedistrict.com
X-WR-CALDESC:Events for Tokyo Love District
REFRESH-INTERVAL;VALUE=DURATION:PT1H
X-Robots-Tag:noindex
X-PUBLISHED-TTL:PT1H
BEGIN:VTIMEZONE
TZID:UTC
BEGIN:STANDARD
TZOFFSETFROM:+0000
TZOFFSETTO:+0000
TZNAME:UTC
DTSTART:20240101T000000
END:STANDARD
END:VTIMEZONE
BEGIN:VEVENT
DTSTART;TZID=UTC:20250411T170000
DTEND;TZID=UTC:20250413T173000
DTSTAMP:20260425T032415
CREATED:20250127T152306Z
LAST-MODIFIED:20250127T152306Z
UID:10000563-1744390800-1744565400@tokyolovedistrict.com
SUMMARY:Jyo-mon – A Celebration of Shibari Performances
DESCRIPTION:Experience the artistry\, passion\, and skill of Shibari with Jyo-mon\, a three-day celebration of rope performance! Featuring an incredible lineup of performers\, this unique event combines the best traditional and contemporary rope artistry under one roof. \nWith a theme for each day—Grace\, Harmony\, and Beauty—the performances will showcase various styles and storytelling\, creating unforgettable moments of connection and expression. \n\nEvent Details\n\nDates:\n\nApril 11\, 2025 (Friday) – Doors Open: 17:00 | Performances Start: 17:55\nApril 12\, 2025 (Saturday) – Doors Open: 10:00 | Performances Start: 10:55\nApril 13\, 2025 (Sunday) – Doors Open: 10:00 | Performances Start: 10:55\n\n\nLocation:\nTakadanobaba (高田馬場)\nTickets:\n\n1-Day Pass: ¥7\,000 (April 11 & 12) / ¥8\,500 (April 13)\nSpecial Discount: Attend 2 days and save ¥500!\n\n\n\n\nPerformers\nThe event features a star-studded lineup of Shibari masters and artists\, including: \n\nHajime Kinoko\nZIMA & Mafuyu\nJake & Laced\nVESPER & Miho\nKungFurious\nLouis Kordex\nAnd many more!\n\nEach performer brings their own unique style and interpretation of rope artistry\, blending traditional Japanese aesthetics with modern techniques. \n\nThemes for Each Day\n\nApril 11 (Friday): Grace (舞) – A tribute to the beauty of motion and elegance in Shibari.\nApril 12 (Saturday): Harmony (和) – Celebrating connection and balance through rope work.\nApril 13 (Sunday): Beauty (美) – Exploring the visual and emotional allure of Shibari.\n\n\nReservations & Contact\nEmail for Reservations: yoyakukinbaku@gmail.com\nPlease include your name\, gender\, and preferred date in your email. \nAdditional Info:\nThis event is fully reservation-based. Spaces are limited\, so book early to secure your spot. \n\nJoin us for Jyo-mon and immerse yourself in the captivating world of Shibari. This is more than a performance—it’s an unforgettable experience celebrating art\, skill\, and human connection. \n \nNeed help getting in or want a guide or interpreter for the event? \nIf you would like to attend with a bilingual guide\, please kindly consider making use of our tour guide service.
URL:https://tokyolovedistrict.com/event/jyo-mon/
CATEGORIES:Fetish,Shibari
ATTACH;FMTTYPE=image/jpeg:https://tokyolovedistrict.com/wp-content/uploads/2025/01/GhEJRMYa0AAk8Cb.jpeg
END:VEVENT
BEGIN:VEVENT
DTSTART;TZID=UTC:20250413T120000
DTEND;TZID=UTC:20250413T180000
DTSTAMP:20260425T032415
CREATED:20250127T154552Z
LAST-MODIFIED:20250127T154552Z
UID:10000564-1744545600-1744567200@tokyolovedistrict.com
SUMMARY:Fetish Festival 28 (Erotic Con)
DESCRIPTION:Spice up your spring at this kink-friendly Tokyo event!\n \nLooking for a Tokyo event this spring that’s more hardcore than a hanami party? Swing by FetiFes\, and maybe the seeds of a new kink will sprout within you! \n \nFetish Festival 28 is on Sunday\, April 13th in Nihonbashi\, Tokyo at the Mensho Kaikan event hall from 12:00-18:00 (12:00pm–6:00pm). \n \nIf you’re not a kinkster\, don’t be fooled by this event’s name! Fetish Festival also welcomes non-sexual niche interests\, with body modification\, hard rock\, horror\, alternative fashion\, and cult media enthusiasts also having a presence at the event. If you’re open-minded\, respectful\, and at least 18 years of age (photo ID required)\, anyone can join the fun at FetiFes! \n \nBuying tickets and getting to FetiFes\n \nFetiFes 28 will be at the Mensho Kaikan\, an event hall in Nihonbashi\, Tokyo. Event tickets can be pre-ordered through ticketing portal eplus (Japanese-language site)\, but they will also be sold at the event hall. Please refrain from lining up at the Mensho Kaikan before 11:00 as to not disturb local residents and neighboring businesses. Make sure to bring one of the following forms of photo identification to verify your age: \n \n\n 	A driver’s license\n \n 	A passport\n \n 	A Japanese residence card\n \n 	A Japanese My Number card\n\n \nThe main entrance of Mensho Kaikan and the surrounding area. Image credit: Japanese Narrow Gauge Modeling Festival via exblog.jp.\n \nThe Mensho Kaikan is conveniently right between five stations on major Tokyo train lines. You can easily reach it via the following routes (walking times are approximate): \n \nFrom Ningyocho Station (Hibiya Line\, Toei Asakusa Line): From Exit A4\, the Mensho Kaikan is a 6-minute walk away.\nFrom Bakuro-yokoyama Station (Toei Shinjuku Line): From Exit A3\, the Mensho Kaikan is a 6-minute walk away.\nFrom Higashi-nihombashi Station (Toei Asakusa Line): From Exit B2\, the Mensho Kaikan is a 6-minute walk away.\nFrom Bakurocho Station (Sōbu Line Rapid Train): From Exit 1\, the Mensho Kaikan is a 9-minute walk away.\nFrom Kodemmacho Station (Hibiya Line): From Exit 2\, the Mensho Kaikan is a 7-minute walk away. \n \nMany vendors at FetiFes will only accept cash\, so make sure to have enough yen on your person. If you’re planning to do some serious shopping\, stack those ¥10\,000 bills in your wallet! There is a Family Mart convenience store (Higashi Nihonbashi Sanchome branch) with an ATM less than a minute away from the venue. Most convenience store ATMs take foreign cards\, and you can also buy snacks and drinks if needed. Please note that eating and drinking inside the Mensho Kaikan will be prohibited. \n \nEntrance of the Nihonbashi Sanchome FamilyMart. Image credit: Akihito Yoshida via Google Maps.\n \nAfter buying a ticket\, you’ll receive a wristband that you must wear while at the event. If you need to step outside for any reason\, showing the wristband at the front desk will allow you to re-enter the venue. FetiFes 28 will run continuously from 12:00 until 18:00 with no breaks. \n \nCosplay and outfits that show off skin are allowed\, but genitalia and non-male nipples must not be exposed. Don’t forget to cover up outside of the event space! Also\, smoking is prohibited on the premises of the Mensho Kaikan. \n \nNavigating FetiFes and participating\n \nBooths will be on the first\, fourth\, fifth\, and sixth floors of the building. The performance stage for stage events (listed below) is on the fifth floor. The third floor has an all-gender/unisex restroom and changing rooms\, but the majority of this floor is restricted to guests/staff. \n \nYou may be able to leave belongings in the third-floor changing room in some cases\, but FetiFes takes no responsibility for lost\, stolen\, or damaged items. You are advised to carry outerwear and personal belongings with you at all times.
URL:https://tokyolovedistrict.com/event/fetish-festival-28/
LOCATION:Mensho Kaikan\, 〒103-0006 東京都中央区日本橋富沢町８－１０\, Tokyo\, 103-0006\, Japan
CATEGORIES:Crossdressing,Drag Show/Performance,Fetish
ATTACH;FMTTYPE=image/jpeg:https://tokyolovedistrict.com/wp-content/uploads/2025/01/GhxYKCBbEAAeMBB.jpeg
END:VEVENT
END:VCALENDAR